BEGIN:VCALENDAR
VERSION:2.0
PRODID:-//10.19.2.61//NONSGML kigkonsult.se iCalcreator 2.20//
CALSCALE:GREGORIAN
METHOD:PUBLISH
X-WR-TIMEZONE:America/Sao_Paulo
BEGIN:VEVENT
UID:event506@Desplugado! | 21 Anos com Você!
DTSTAMP:20260421T082846Z
CATEGORIES:Araras
DESCRIPTION:MR Gasparzinho no Vitória\nCategoria: Araras\nLink: https://www
 .desplugado.com/v3/index.php?option=com_jem&view=event&id=506:mr-gasparzin
 ho-no-vitoria\n
DTSTART;TZID=America/Sao_Paulo:20260321T220000
DTEND;TZID=America/Sao_Paulo:20260321T220000
LOCATION:Vitória Show\,Avenida Loreto\, 800 - Jd. das Flores\,Araras
SUMMARY:MR Gasparzinho no Vitória
URL:https://www.desplugado.com/v3/index.php?option=com_jem&view=event&id=50
 6:mr-gasparzinho-no-vitoria
END:VEVENT
END:VCALENDAR
