BEGIN:VCALENDAR
VERSION:2.0
PRODID:-//10.19.2.61//NONSGML kigkonsult.se iCalcreator 2.20//
CALSCALE:GREGORIAN
METHOD:PUBLISH
X-WR-TIMEZONE:America/Sao_Paulo
BEGIN:VEVENT
UID:event511@Desplugado! | 21 Anos com Você!
DTSTAMP:20260421T083620Z
CATEGORIES:Araras
DESCRIPTION:Baile de Aleluia com Homens de Preto\nCategoria: Araras\nLink: 
 https://www.desplugado.com/v3/index.php?option=com_jem&view=event&id=511:b
 aile-de-aleluia-com-homens-de-preto\n
DTSTART;TZID=America/Sao_Paulo:20260404T213000
DTEND;TZID=America/Sao_Paulo:20260404T213000
LOCATION:Associação Atlética Ararense\,Rua Narciso Franzini\, 11 - Centro\,
 Araras
SUMMARY:Baile de Aleluia com Homens de Preto
URL:https://www.desplugado.com/v3/index.php?option=com_jem&view=event&id=51
 1:baile-de-aleluia-com-homens-de-preto
END:VEVENT
END:VCALENDAR
